BEGIN:VCALENDAR
VERSION:2.0
PRODID:-//ChamberMaster//Event Calendar 2.0//EN
METHOD:PUBLISH
X-PUBLISHED-TTL:P1H
REFRESH-INTERVAL:P1H
CALSCALE:GREGORIAN
BEGIN:VTIMEZONE
TZID:America/New_York
BEGIN:DAYLIGHT
RRULE:FREQ=YEARLY;BYMONTH=3;BYDAY=2SU
DTSTART:20070101T000000
TZOFFSETFROM:-0500
TZOFFSETTO:-0400
TZNAME:Eastern Daylight Time
END:DAYLIGHT
BEGIN:STANDARD
RRULE:FREQ=YEARLY;BYMONTH=11;BYDAY=1SU
DTSTART:20070101T000000
TZOFFSETFROM:-0400
TZOFFSETTO:-0500
TZNAME:Eastern Standard Time
END:STANDARD
END:VTIMEZONE
BEGIN:VEVENT
DTSTART;TZID=America/New_York:20260606T100000
DTEND;TZID=America/New_York:20260606T120000
X-MICROSOFT-CDO-ALLDAYEVENT:FALSE
SUMMARY:Backpack Buddy Packing Day
DESCRIPTION:We hope to see you on the annual packing day for BackpackBuddy.org\nLet’s come together as a community to support students in need with meals for the summer!
X-ALT-DESC;FMTTYPE=text/html:We hope to see you on the annual packing day for BackpackBuddy.org\nLet’s come together as a community to support students in need with meals for the summer!
LOCATION:3937 Teays Valley Road Hurricane WV 25526
UID:e.1621.1446152
SEQUENCE:3
DTSTAMP:20260421T112037Z
URL:https://members.putnamchamber.org/eventcalendar/Details/backpack-buddy-packing-day-1712861?sourceTypeId=Hub
END:VEVENT
END:VCALENDAR
